BEGIN:VCALENDAR
VERSION:2.0
PRODID:-//jEvents 2.0 for Joomla//EN
CALSCALE:GREGORIAN
METHOD:PUBLISH
BEGIN:VEVENT
UID:bf795b1842b469d1bc7a75c3d7be6df6
CATEGORIES:DEFAULT
SUMMARY:Convegno introduttivo Educare alla cittadinanza, educare alla responsabilità
DESCRIPTION;ENCODING=QUOTED-PRINTABLE:\n\nsede:\n\n\nLiceo Carlo Tenca, Bastioni di porta Volta, 16 - Milano\n\n\
 nore 15.30-18.30\n
DTSTAMP:20260425T012725Z
DTSTART:20191016T133000Z
DTEND:20191016T163000Z
SEQUENCE:0
TRANSP:OPAQUE
END:VEVENT
END:VCALENDAR