BEGIN:VCALENDAR
VERSION:2.0
PRODID:-//jEvents 2.0 for Joomla//EN
CALSCALE:GREGORIAN
METHOD:PUBLISH
BEGIN:VEVENT
UID:a0d9a115db3af1450fe7ef339ec9f98a
CATEGORIES:DEFAULT
SUMMARY:Seminario di Scienze Umane in Brianza - La giustizia Riparativa
DESCRIPTION;ENCODING=QUOTED-PRINTABLE:\n\nPresso Villa S.Antonio Maria Zaccaria - Eupilio CO\n\n\nda venerdì 20 a
  domenica 22 settembre 2019\n\n\nLOCANDINA \n
DTSTAMP:20260425T024609Z
DTSTART:20190920T130000Z
SEQUENCE:0
TRANSP:OPAQUE
END:VEVENT
END:VCALENDAR