BEGIN:VCALENDAR
VERSION:2.0
PRODID:-//jEvents 2.0 for Joomla//EN
CALSCALE:GREGORIAN
METHOD:PUBLISH
BEGIN:VEVENT
UID:767190b6b2fd89da1fc9a7daf88d60c8
CATEGORIES:DEFAULT
SUMMARY:NATURA E UMANITÀ’: STORIA DI UN CONFLITTO O STORIA DI UN DIALOGO?
DESCRIPTION;ENCODING=QUOTED-PRINTABLE:\n\nSede:\n\n\nIstituto Cavalieri, via Olona 14 - Milano\n
DTSTAMP:20260424T234500Z
DTSTART:20191114T143000Z
DTEND:20191114T170000Z
SEQUENCE:0
TRANSP:OPAQUE
END:VEVENT
END:VCALENDAR