BEGIN:VCALENDAR
VERSION:2.0
PRODID:-//jEvents 2.0 for Joomla//EN
CALSCALE:GREGORIAN
METHOD:PUBLISH
BEGIN:VEVENT
UID:9a072803faefc9e9737ab7ce9da45559
CATEGORIES:DEFAULT
SUMMARY:NATURA E UMANITÀ’: STORIA DI UN CONFLITTO O STORIA DI UN DIALOGO?
DESCRIPTION;ENCODING=QUOTED-PRINTABLE:\n\nSede:\n\n\nIstituto Cavalieri, Via Olona 14 - Milano\n
DTSTAMP:20260425T012725Z
DTSTART:20191122T143000Z
DTEND:20191122T170000Z
SEQUENCE:0
TRANSP:OPAQUE
END:VEVENT
END:VCALENDAR