BEGIN:VCALENDAR
VERSION:2.0
PRODID:-//jEvents 2.0 for Joomla//EN
CALSCALE:GREGORIAN
METHOD:PUBLISH
BEGIN:VEVENT
UID:cae2316cbd65ed67f4925075559e52a6
CATEGORIES:DEFAULT
SUMMARY:NATURA E UMANITÀ’: STORIA DI UN CONFLITTO O STORIA DI UN DIALOGO?
DESCRIPTION;ENCODING=QUOTED-PRINTABLE:\n\nSede:\n\n\nIstituto Cavalieri, Via Olona 14 - Milano\n
DTSTAMP:20260424T234501Z
DTSTART:20191129T143000Z
DTEND:20191129T170000Z
SEQUENCE:0
TRANSP:OPAQUE
END:VEVENT
END:VCALENDAR