BEGIN:VCALENDAR
VERSION:2.0
PRODID:-//jEvents 2.0 for Joomla//EN
CALSCALE:GREGORIAN
METHOD:PUBLISH
BEGIN:VEVENT
UID:f994df45f98f53ad2fa314ca3798f970
CATEGORIES:DEFAULT
SUMMARY:Per fare un bambino ci vuole un villaggio II parte
DESCRIPTION;ENCODING=QUOTED-PRINTABLE:\n\nIL CORSO E' STATO RIMANDATO. \n\n\nMAGGIORI INFORMAZIONI IN SEGUITO. \n
 \n\nA causa delle disposizioni legate all'emergenza Coronavirus, l'incontro
 "Educare alla sessualità e alla affettività" del 5 marzo è stato rinviato a
 l 21 maggio. Orario e sala saranno definiti in seguito. \n\n\n\n
DTSTAMP:20260425T020812Z
DTSTART;VALUE=DATE:20200521
DTEND;VALUE=DATE:20200522
SEQUENCE:0
TRANSP:OPAQUE
END:VEVENT
END:VCALENDAR