BEGIN:VCALENDAR
VERSION:2.0
PRODID:-//jEvents 2.0 for Joomla//EN
CALSCALE:GREGORIAN
METHOD:PUBLISH
BEGIN:VEVENT
UID:735f8a908c26e49b25f43d20301e8565
CATEGORIES:DEFAULT
SUMMARY:RIMANDATO/Per fare un bambino ci vuole un villaggio II parte
LOCATION:Sala Palazzo Falck, P.zza Garibaldi 4 - Lecco
DESCRIPTION;ENCODING=QUOTED-PRINTABLE:\n\n"La vita in un sorso: dalla birretta tra amici ai super alcolici".\n\n\
 nIntervengono: Manuela Ponti, Psicologa e criminologa e Raffaella Romeo, Ep
 atologa\n\n\n27 aprile 2020, ore 20.45\n
DTSTAMP:20260424T221401Z
DTSTART:20200427T184500Z
SEQUENCE:0
TRANSP:OPAQUE
END:VEVENT
END:VCALENDAR