BEGIN:VCALENDAR
VERSION:2.0
PRODID:-//jEvents 2.0 for Joomla//EN
CALSCALE:GREGORIAN
METHOD:PUBLISH
BEGIN:VEVENT
UID:2d3c78352f199730824bf484a8ebbbfd
CATEGORIES:DEFAULT
SUMMARY:Per fare un bambino ci vuole un villaggio - Sondrio/edizione 2019-2010
LOCATION:Sala della Banca Popolare di Sondrio, piazzetta Lantieri - Tirano (SO)
DESCRIPTION;ENCODING=QUOTED-PRINTABLE:\n\n"Uomo o Cyborg? L'umano alla prova del transumanesimo" - Ore 20.45\n\n\
 nInterviene: Prof.ssa Laura Boccenti, Docente di storia e filosofia, membro
  del Comitato Scientifico delle Scuole FAES\n\n\nPer info: Questo indirizzo
  email è protetto dagli spambots. È necessario abilitare JavaScript per ved
 erlo.
 //
 \n\n\nScarica la locandina con la rassegna completa degli incont
 ri\n
DTSTAMP:20260424T214457Z
DTSTART:20200130T194500Z
SEQUENCE:0
TRANSP:OPAQUE
END:VEVENT
END:VCALENDAR