BEGIN:VCALENDAR
VERSION:2.0
PRODID:-//jEvents 2.0 for Joomla//EN
CALSCALE:GREGORIAN
METHOD:PUBLISH
BEGIN:VEVENT
UID:26f5f1914b1a05340d296c8adcd1992b
CATEGORIES:DEFAULT
SUMMARY:Rimandato Per fare un bambino ci vuole un villaggio - Sondrio /edizione 2019-2020
LOCATION:Cinema Mignon, via Roma 1 - Tirano (SO)
DESCRIPTION;ENCODING=QUOTED-PRINTABLE:\n\n"La mia seconda volta" - Ore 21.00\n \nProiezione del film "La mia seco
 nda volta", di Alberto Gelpi.\n\n\nPer info: 
DTSTAMP:20260424T221401Z
DTSTART:20200312T200000Z
SEQUENCE:0
TRANSP:OPAQUE
END:VEVENT
END:VCALENDAR