BEGIN:VCALENDAR
VERSION:2.0
PRODID:-//jEvents 2.0 for Joomla//EN
CALSCALE:GREGORIAN
METHOD:PUBLISH
BEGIN:VEVENT
UID:2cc50c8fccee09424942450b8adf900b
CATEGORIES:DEFAULT
SUMMARY:Sogni, paure e... realtà: come si fa?
LOCATION:Istituto Culturale “Giuseppe Neri” via Rosmini 5 - Pogliano Milanese
DESCRIPTION;ENCODING=QUOTED-PRINTABLE:\n\nLUNEDÌ 17 febbraio 2020 dalle 16,45 alle 18,45\nDall’infanzia stupita a
 lla conoscenza di sé guidata da volti adulti. Uno sguardo, un metodo in 10 
 film.\nGiovanni Mocchetti, docente e dirigente scolastico\n\nDestinatari\nC
 orso di formazione per educatori asilo nido, docenti di scuola dell’infanzi
 a e primaria.\n\nContenuti\n“Le favole sono più che vere: non perché raccon
 tano che esistono i draghi, ma perché ci dicono che i draghi possono essere
  sconfitti” (G. K. CHESTERTON)\n\nObiettivi\n* Riscoprire il valore simboli
 co delle fiabe come aiuto a comprendere meglio se stessi e la realtà\n* Rec
 uperare la propria autostima\n* Approfondire il nesso tra fantasia, creativ
 ità e realtà\n* Riflettere sul proprio compito educativo\n\nMetodologia \nL
 ezioni partecipate, slide, drammatizzazione, laboratorio di pittura\n
DTSTAMP:20260424T193022Z
DTSTART:20200217T154500Z
DTEND:20200217T174500Z
SEQUENCE:0
TRANSP:OPAQUE
END:VEVENT
END:VCALENDAR