BEGIN:VCALENDAR
VERSION:2.0
PRODID:-//jEvents 2.0 for Joomla//EN
CALSCALE:GREGORIAN
METHOD:PUBLISH
BEGIN:VEVENT
UID:449dd1b1554a81290be0609f0cd92399
CATEGORIES:DEFAULT
SUMMARY:RIMANDATO/Sogni, paure e ... realtà: come si fa?
LOCATION:Istituto Culturale “Giuseppe Neri” via Rosmini 5 - Pogliano Milanese 
DESCRIPTION;ENCODING=QUOTED-PRINTABLE:\n\nIL CORSO E' STATO RIMANDATO AL PERIODO COMPRESO TRA FINE GIUGNO E INIZI
 O LUGLIO. \n\n\nMAGGIORI INFORMAZIONI IN SEGUITO. \n\n\nLUNEDÌ 11 maggio 20
 20 ore 16,45 alle ore 18,45\nLa strega, il lupo, il drago: nella fiaba inco
 ntriamo noi stessi\nFabrizia Alliora, psicologa psicoterapeuta infantile\n\
 nDestinatari\nCorso di formazione per educatori asilo nido, docenti di scuo
 la dell’infanzia e primaria.\n\nContenuti\n“Le favole sono più che vere: no
 n perché raccontano che esistono i draghi, ma perché ci dicono che i draghi
  possono essere sconfitti” (G. K. CHESTERTON)\n\nObiettivi\n* Riscoprire il
  valore simbolico delle fiabe come aiuto a comprendere meglio se stessi e l
 a realtà\n* Recuperare la propria autostima\n* Approfondire il nesso tra fa
 ntasia, creatività e realtà\n* Riflettere sul proprio compito educativo\n\n
 Metodologia \nLezioni partecipate, slide, drammatizzazione, laboratorio di 
 pittura\n
DTSTAMP:20260425T003310Z
DTSTART:20200511T144500Z
DTEND:20200511T164500Z
SEQUENCE:0
TRANSP:OPAQUE
END:VEVENT
END:VCALENDAR