BEGIN:VCALENDAR
VERSION:2.0
PRODID:-//jEvents 2.0 for Joomla//EN
CALSCALE:GREGORIAN
METHOD:PUBLISH
BEGIN:VEVENT
UID:f94d8b2bc01fa8a6e6d24c6440580bd4
CATEGORIES:DEFAULT
SUMMARY:Far crescere l'umano. Scuola e bisogno educativo oggi
LOCATION:Università Cattolica del Sacro Cuore, Largo Gemelli, 1 - Milano
DESCRIPTION;ENCODING=QUOTED-PRINTABLE:\n\nSi terrà sabato 8 febbraio 2020 alle ore 9.30 presso l'Università Catto
 lica del Sacro Cuore, Largo Gemelli, 1 il Convegno Anuuale 2020, promosso d
 alle associazioni CdO Opere Educative, Diesse, Disal, Il Rischio Educativo 
 e Portofranco dal titolo "Far crescere l'umano. Scuola e bisogno educativo 
 oggi". \n\n\nIl convegnoè aperto alla partecipazione degli insegnanti di tu
 tti i livelli di scuola, dei dirigenti scolastici e degli operatori che, in
  Italia e all'estero, sviluppano e cercano una riflessione su temi educativ
 i e formativi oggi fondamentali, in dialogo con le particolarità e le nuove
  emergenze del contesto scolastico, culturale e sociale.\n\n\nPer maggiori 
 informazioni clicca qui\n
DTSTAMP:20260424T193022Z
DTSTART:20200208T083000Z
SEQUENCE:0
TRANSP:OPAQUE
END:VEVENT
END:VCALENDAR