BEGIN:VCALENDAR
VERSION:2.0
PRODID:-//jEvents 2.0 for Joomla//EN
CALSCALE:GREGORIAN
METHOD:PUBLISH
BEGIN:VEVENT
UID:fe6241ae4f9684da5b459321020143de
CATEGORIES:DEFAULT
SUMMARY:Rimandato/Sogni, paure e... realtà: come si fa?
LOCATION:Istituto Culturale “Giuseppe Neri” via Rosmini 5 - Pogliano Milanese
DESCRIPTION;ENCODING=QUOTED-PRINTABLE:\n\nSABATO 21 marzo 2020 ore 13,30 alle 17,30\nDalla pagina al palco, fiabe
  alla prova\nGianpiero Pizzol, scrittore e attore\n\nDestinatari\nCorso di 
 formazione per educatori asilo nido, docenti di scuola dell’infanzia e prim
 aria.\n\nContenuti\n“Le favole sono più che vere: non perché raccontano che
  esistono i draghi, ma perché ci dicono che i draghi possono essere sconfit
 ti” (G. K. CHESTERTON)\n\nObiettivi\n* Riscoprire il valore simbolico delle
  fiabe come aiuto a comprendere meglio se stessi e la realtà\n* Recuperare 
 la propria autostima\n* Approfondire il nesso tra fantasia, creatività e re
 altà\n* Riflettere sul proprio compito educativo\n\nMetodologia \nLezioni p
 artecipate, slide, drammatizzazione, laboratorio di pittura\n
DTSTAMP:20260424T221441Z
DTSTART:20200321T123000Z
DTEND:20200321T163000Z
SEQUENCE:0
TRANSP:OPAQUE
END:VEVENT
END:VCALENDAR