BEGIN:VCALENDAR
VERSION:2.0
PRODID:-//jEvents 2.0 for Joomla//EN
CALSCALE:GREGORIAN
METHOD:PUBLISH
BEGIN:VEVENT
UID:31d3ec9c495127d6a76c13093d62e597
CATEGORIES:DEFAULT
SUMMARY:Vedere un libro, leggere un film 
DESCRIPTION;ENCODING=QUOTED-PRINTABLE:\n\nUna lezione di cinema in live streaming Zoom con Giancarlo Zappoli e i 
 registi Fabio e Damiano D’Innocenzo.\n\n\nÈ questo il tema portante della d
 iretta zoom promossa dal portale di cinema per la scuola Keaton.eu che si t
 errà giovedì 4 giugno alle 17.00. L'evento è riservato ai docenti e  la par
 tecipazione alla diretta è gratuita. Gli interessati potranno registrarsi s
 ulla piattaforma Keaton nella pagina dedicata all’evento, fino a esauriment
 o “posti”.\n\n\nÈ previsto infatti un numero chiuso per garantire la miglio
 re qualità di trasmissione e ricezione in streaming.\n\n\nPer registrarsi: 
 \n\n\n http://www.keaton.eu/vedere-un-libro-leggere-un-film/  \n
DTSTAMP:20260425T030213Z
DTSTART:20200604T150000Z
SEQUENCE:0
TRANSP:OPAQUE
END:VEVENT
END:VCALENDAR