BEGIN:VCALENDAR
VERSION:2.0
PRODID:-//jEvents 2.0 for Joomla//EN
CALSCALE:GREGORIAN
METHOD:PUBLISH
BEGIN:VEVENT
UID:5f03e9dcd5ea93d5a9a225a5f1b4c47f
CATEGORIES:DEFAULT
SUMMARY:Tutto chiede salvezza
DESCRIPTION;ENCODING=QUOTED-PRINTABLE:\n\nDialogo con Daniele Mencarelli\nvincitore del Premio Strega Giovani 202
 0 con il libro “Tutto chiede salvezza”, edito da Mondadori. \n\n\nLa partec
 ipazione è gratuita.\n\n\nL’iscrizione all’evento dovrà essere effettuata e
 ntro e non oltre il 23 giugno compilando il form online disponibile al link
 .\n
DTSTAMP:20260425T030212Z
DTSTART:20200624T060000Z
SEQUENCE:0
TRANSP:OPAQUE
END:VEVENT
END:VCALENDAR