BEGIN:VCALENDAR
VERSION:2.0
PRODID:-//jEvents 2.0 for Joomla//EN
CALSCALE:GREGORIAN
METHOD:PUBLISH
BEGIN:VEVENT
UID:f5aa32149bd16bb45d41f567ae8ce352
CATEGORIES:DEFAULT
SUMMARY:Seconda lezione Generazione web - C1 - Biblioteca digitale e creazione di e-Book
LOCATION:ITIS Leonardo - Carate
DESCRIPTION;ENCODING=QUOTED-PRINTABLE:
DTSTAMP:20260424T185636Z
DTSTART:20160316T070000Z
DTEND:20160316T160000Z
SEQUENCE:0
TRANSP:OPAQUE
END:VEVENT
END:VCALENDAR