BEGIN:VCALENDAR
VERSION:2.0
PRODID:-//jEvents 2.0 for Joomla//EN
CALSCALE:GREGORIAN
METHOD:PUBLISH
BEGIN:VEVENT
UID:89ffe3f71cb6bc5db7bd5d501cba6a04
CATEGORIES:DEFAULT
SUMMARY:Terza lezione Generazione web - C1 - Biblioteca digitale e creazione di e-Book
LOCATION:ITIS Leonardo - Carate
DESCRIPTION;ENCODING=QUOTED-PRINTABLE:
DTSTAMP:20260424T190411Z
DTSTART:20160322T070000Z
DTEND:20160322T160000Z
SEQUENCE:0
TRANSP:OPAQUE
END:VEVENT
END:VCALENDAR