BEGIN:VCALENDAR
VERSION:2.0
PRODID:-//jEvents 2.0 for Joomla//EN
CALSCALE:GREGORIAN
METHOD:PUBLISH
BEGIN:VEVENT
UID:b42c242e2077f62730826ebeae4d80d2
CATEGORIES:DEFAULT
SUMMARY:CERTIFICATE ACQUISITION IN ADVANCED ENGLISH (CAE) - LIVELLO C1
LOCATION:Liceo Tenca, Bastioni di Porta Volta, 16 - Milano
DESCRIPTION;ENCODING=QUOTED-PRINTABLE:
DTSTAMP:20260424T201514Z
DTSTART:20160314T153000Z
DTEND:20160314T183000Z
SEQUENCE:0
TRANSP:OPAQUE
END:VEVENT
END:VCALENDAR