BEGIN:VCALENDAR
VERSION:2.0
PRODID:-//jEvents 2.0 for Joomla//EN
CALSCALE:GREGORIAN
METHOD:PUBLISH
BEGIN:VEVENT
UID:cdb1d86d511fbd5bb698583e1a0ff38a
CATEGORIES:DEFAULT
SUMMARY:CERTIFICATE ACQUISITION IN ADVANCED ENGLISH (CAE) - LIVELLO C1
LOCATION:Liceo Tenca, Bastioni di Porta Volta, 16 - Milano
DESCRIPTION;ENCODING=QUOTED-PRINTABLE:
DTSTAMP:20260424T221405Z
DTSTART:20160502T143000Z
DTEND:20160502T173000Z
SEQUENCE:0
TRANSP:OPAQUE
END:VEVENT
END:VCALENDAR