BEGIN:VCALENDAR
VERSION:2.0
PRODID:-//jEvents 2.0 for Joomla//EN
CALSCALE:GREGORIAN
METHOD:PUBLISH
BEGIN:VEVENT
UID:3e86afe31ff71058062ea82a7636ff03
CATEGORIES:DEFAULT
SUMMARY:ACQUISIZIONE DEL FIRST CERTIFICATE IN ENGLISH (FCE) - LIVELLO B2
LOCATION:Liceo Tenca, Bastioni di Porta Volta, 16 - Milano
DESCRIPTION;ENCODING=QUOTED-PRINTABLE:
DTSTAMP:20260424T214456Z
DTSTART:20160407T143000Z
DTEND:20160407T173000Z
SEQUENCE:0
TRANSP:OPAQUE
END:VEVENT
END:VCALENDAR