BEGIN:VCALENDAR
VERSION:2.0
PRODID:-//jEvents 2.0 for Joomla//EN
CALSCALE:GREGORIAN
METHOD:PUBLISH
BEGIN:VEVENT
UID:67b54d4f2f23544251de1d97d1bf3da9
CATEGORIES:DEFAULT
SUMMARY:Terzo incontro "Educare alla parità, prevenire la violenza"
LOCATION:Università Cattolica del Sacro Cuore
DESCRIPTION;ENCODING=QUOTED-PRINTABLE:\n\n"Il valore della differenza".\n\n\nIntervengono:\n\n\nGlauco Maria Geng
 a, Mariolina Ceriotti Migliarese\n
DTSTAMP:20260424T190544Z
DTSTART:20160330T150000Z
DTEND:20160330T170000Z
SEQUENCE:0
TRANSP:OPAQUE
END:VEVENT
END:VCALENDAR