BEGIN:VCALENDAR
VERSION:2.0
PRODID:-//jEvents 2.0 for Joomla//EN
CALSCALE:GREGORIAN
METHOD:PUBLISH
BEGIN:VEVENT
UID:5659fdee1cd99bcca728e9c109eb70db
CATEGORIES:DEFAULT
SUMMARY:Quarto incontro "Educare alla parità, prevenire la violenza"
LOCATION:Università Cattolica del Sacro Cuore
DESCRIPTION;ENCODING=QUOTED-PRINTABLE:\n\n"Le pari opportunità: aspetti culturali e disposizioni normative".\n\n\
 nIntervengono:\n\n\nIsabella Crespi, Emmanuele Massagli.\n\n\n \n\n\n"Discr
 iminazioni, molestie e conciliazione nei luoghi di lavoro".\n\n\nInterviene
 :\n\n\nCarolina Pellegrini\n
DTSTAMP:20260424T202753Z
DTSTART:20160416T080000Z
DTEND:20160416T143000Z
SEQUENCE:0
TRANSP:OPAQUE
END:VEVENT
END:VCALENDAR