BEGIN:VCALENDAR
VERSION:2.0
PRODID:-//jEvents 2.0 for Joomla//EN
CALSCALE:GREGORIAN
METHOD:PUBLISH
BEGIN:VEVENT
UID:4068f345672cc0e038f26089ba9862df
CATEGORIES:DEFAULT
SUMMARY:prima lezione IL GIOCO COME CIBO DELLA MENTE
LOCATION:IC V.le Lombardia - Cologno M.se
DESCRIPTION;ENCODING=QUOTED-PRINTABLE:\n\nrivolto a docenti della scuola dell'infanzia e prima classe della scuol
 a primaria\n
DTSTAMP:20260424T202752Z
DTSTART:20160423T070000Z
DTEND:20160423T110000Z
SEQUENCE:0
TRANSP:OPAQUE
END:VEVENT
END:VCALENDAR