BEGIN:VCALENDAR
VERSION:2.0
PRODID:-//jEvents 2.0 for Joomla//EN
CALSCALE:GREGORIAN
METHOD:PUBLISH
BEGIN:VEVENT
UID:f357d043f8d228a76801959c1aaf588f
CATEGORIES:DEFAULT
SUMMARY:Aggressività al nido e alla scuola dell'infanzia
LOCATION:TICONZERO - Cremona
DESCRIPTION;ENCODING=QUOTED-PRINTABLE:
CONTACT:Nicole Sarti
DTSTAMP:20260424T202754Z
DTSTART:20160430T073000Z
DTEND:20160430T103000Z
SEQUENCE:0
TRANSP:OPAQUE
END:VEVENT
END:VCALENDAR