BEGIN:VCALENDAR
VERSION:2.0
PRODID:-//jEvents 2.0 for Joomla//EN
CALSCALE:GREGORIAN
METHOD:PUBLISH
BEGIN:VEVENT
UID:a2a7ac110da8e7bb3cf34d350db3e5ec
CATEGORIES:DEFAULT
SUMMARY:Diritti e doveri dei genitori nei consigli di istituo e di classe
LOCATION:Salone della Basilica di San Marco- Milano
DESCRIPTION;ENCODING=QUOTED-PRINTABLE:
DTSTAMP:20260425T012725Z
DTSTART:20160914T190000Z
SEQUENCE:0
TRANSP:OPAQUE
END:VEVENT
END:VCALENDAR