BEGIN:VCALENDAR
VERSION:2.0
PRODID:-//jEvents 2.0 for Joomla//EN
CALSCALE:GREGORIAN
METHOD:PUBLISH
BEGIN:VEVENT
UID:de01fac01f4d23caa7a323808abcf86f
CATEGORIES:DEFAULT
SUMMARY:Convention scuola 2016
LOCATION:Savoia Hotel Regency, Bologna
DESCRIPTION;ENCODING=QUOTED-PRINTABLE:\n\nTutto ha inizio da uno sguardo. La sfida educativa del nostro tempo\n
DTSTAMP:20260424T221439Z
DTSTART:20161022T130000Z
DTEND:20161023T110000Z
SEQUENCE:0
TRANSP:OPAQUE
END:VEVENT
END:VCALENDAR