BEGIN:VCALENDAR
VERSION:2.0
PRODID:-//jEvents 2.0 for Joomla//EN
CALSCALE:GREGORIAN
METHOD:PUBLISH
BEGIN:VEVENT
UID:2028d29f1b07476456902cf81d72055d
CATEGORIES:DEFAULT
SUMMARY:Seconda lezione CERTIFICATE ACQUISITION IN ADVANCED ENGLISH (CAE)
LOCATION:Liceo Tenca - Bastioni di Porta Volta, 16 - Milano
DESCRIPTION;ENCODING=QUOTED-PRINTABLE:\n\nLet's talk about lifestyles: our way of living and working. Teaching an
 d what it means to each of us. \n\n\nBegin a broad overview of the 12 verb 
 tenses. To make and to do. Writing an email. Some parts of speech.\n\n\n \n
 \n\nTeacher: Kenneth R. Brodey \n\n\n \n
DTSTAMP:20260424T221404Z
DTSTART:20161013T140000Z
DTEND:20161013T170000Z
SEQUENCE:0
TRANSP:OPAQUE
END:VEVENT
END:VCALENDAR