BEGIN:VCALENDAR
VERSION:2.0
PRODID:-//jEvents 2.0 for Joomla//EN
CALSCALE:GREGORIAN
METHOD:PUBLISH
BEGIN:VEVENT
UID:f0873496ca226ae0c73f93bb11eb7735
CATEGORIES:DEFAULT
SUMMARY:Quinta lezione CERTIFICATE ACQUISITION IN ADVANCED ENGLISH (CAE) 
LOCATION:Liceo Tenca - Bastioni di Porta Volta, 16 - Milano
DESCRIPTION;ENCODING=QUOTED-PRINTABLE:\n\nIt is all in our mind.\n\n\nVocabulary used to talk about intelligence 
 and memory. Exercises regarding verb tenses (e.g., the Perfect tenses). The
  Passive.\n\n\n \n
DTSTAMP:20260424T221402Z
DTSTART:20161110T150000Z
DTEND:20161110T180000Z
SEQUENCE:0
TRANSP:OPAQUE
END:VEVENT
END:VCALENDAR