BEGIN:VCALENDAR
VERSION:2.0
PRODID:-//jEvents 2.0 for Joomla//EN
CALSCALE:GREGORIAN
METHOD:PUBLISH
BEGIN:VEVENT
UID:0bc6bb48d4aeb53edc84a21b5c60a3b1
CATEGORIES:DEFAULT
SUMMARY:Settima lezione CERTIFICATE ACQUISITION IN ADVANCED ENGLISH (CAE) 
LOCATION:Liceo Tenca - Bastioni di Porta Volta, 16 - Milano
DESCRIPTION;ENCODING=QUOTED-PRINTABLE:\n\nOn the job - What job?\n\n\nOffice vocabulary (e.g., vocabulary in the 
 classroom setting). What is appropriate and what is not? Appropriate use of
  adjectives that describe space. \n\n\n \n\n\nTeacher: Kenneth R. Brodey\n
DTSTAMP:20260424T202755Z
DTSTART:20161124T150000Z
DTEND:20161124T180000Z
SEQUENCE:0
TRANSP:OPAQUE
END:VEVENT
END:VCALENDAR