BEGIN:VCALENDAR
VERSION:2.0
PRODID:-//jEvents 2.0 for Joomla//EN
CALSCALE:GREGORIAN
METHOD:PUBLISH
BEGIN:VEVENT
UID:d63e361def503e53118ccbd5f7358c0b
CATEGORIES:DEFAULT
SUMMARY:Dodicesima lezione CERTIFICATE ACQUISITION IN ADVANCED ENGLISH (CAE) 
LOCATION:Liceo Tenca - Bastioni di Porta Volta, 16 - Milano
DESCRIPTION;ENCODING=QUOTED-PRINTABLE:\n\nSelf-Portrait II\n\n\nUsing the correct adjectives that indicate quanti
 ty and dimension. Additional descriptions that mean big. Oral comprehension
  and expression. Writing a review of a novel. The Perfect Tenses.\n\n\n \n\
 n\nTeacher: Kenneth R. Brodey\n
DTSTAMP:20260424T163102Z
DTSTART:20170202T150000Z
DTEND:20170202T180000Z
SEQUENCE:0
TRANSP:OPAQUE
END:VEVENT
END:VCALENDAR