BEGIN:VCALENDAR
VERSION:2.0
PRODID:-//jEvents 2.0 for Joomla//EN
CALSCALE:GREGORIAN
METHOD:PUBLISH
BEGIN:VEVENT
UID:7a4fc8c873bfc2768784a17e1ba60149
CATEGORIES:DEFAULT
SUMMARY:XIV lezione CERTIFICATE ACQUISITION IN ADVANCED ENGLISH (CAE) 
LOCATION:Liceo Tenca - Bastioni di Porta Volta, 16 - Milano
DESCRIPTION;ENCODING=QUOTED-PRINTABLE:\n\nLeisure time II\n\n\nTerms associated with money. Oral exercises. Infor
 mal letters. The Present Perfect and the Present Perfect Continuous.\n\n\n 
 \n\n\nTeacher: Kenneth R. Brodey\n
DTSTAMP:20260424T163108Z
DTSTART:20170216T150000Z
DTEND:20170216T180000Z
SEQUENCE:0
TRANSP:OPAQUE
END:VEVENT
END:VCALENDAR