BEGIN:VCALENDAR
VERSION:2.0
PRODID:-//jEvents 2.0 for Joomla//EN
CALSCALE:GREGORIAN
METHOD:PUBLISH
BEGIN:VEVENT
UID:3eae8aa60f11502190d5de0898ffa43d
CATEGORIES:DEFAULT
SUMMARY:Quarta lezione Acquisizione del first certificate in english (FCE)
LOCATION:Liceo Tenca - Bastioni di Porta Volta, 16 - Milano
DESCRIPTION;ENCODING=QUOTED-PRINTABLE:\n\nPart 1: Leisure and pleasure. \n\n\nDeveloping listening skills: (liste
 ning part2) a game developer talking about his life and work. Class discuss
 ion: advantages and disadvantages of video or computer games.\n\n\nPart 2: 
 Making comparisons \n\n\nComparative and superlative forms of adjectives. N
 ot so/as + adjective + as. Bigger than\n\n\n \n\n\nTeacher: Sandra Groome\n
DTSTAMP:20260424T202752Z
DTSTART:20161110T150000Z
DTEND:20161110T180000Z
SEQUENCE:0
TRANSP:OPAQUE
END:VEVENT
END:VCALENDAR