BEGIN:VCALENDAR
VERSION:2.0
PRODID:-//jEvents 2.0 for Joomla//EN
CALSCALE:GREGORIAN
METHOD:PUBLISH
BEGIN:VEVENT
UID:23fc3b31b962db66df65a3cc4b09f0fc
CATEGORIES:DEFAULT
SUMMARY:Quinta lezione Acquisizione del first certificate in english (FCE)
LOCATION:Liceo Tenca - Bastioni di Porta Volta, 16 - Milano
DESCRIPTION;ENCODING=QUOTED-PRINTABLE:\n\nPart 1: My first bike\n\n\nReading an extract from a book about actor E
 wan McGregor. Reading comprehension and oral summary. Phrasal verbs and exp
 ressions with get, take, have. \n\n\nPart 2: Grammar\n\n\nAdjectives with -
 ed and -ing. Developing listening skills: a young girl talking about some l
 ife experiences in the past and using adjectives to describe how she felt. 
 Class discussion: talking about life experiences, Have you ever..?\n\n\n \n
 \n\nTeacher: Sandra Groome\n
DTSTAMP:20260424T221401Z
DTSTART:20161117T150000Z
DTEND:20161117T180000Z
SEQUENCE:0
TRANSP:OPAQUE
END:VEVENT
END:VCALENDAR