BEGIN:VCALENDAR
VERSION:2.0
PRODID:-//jEvents 2.0 for Joomla//EN
CALSCALE:GREGORIAN
METHOD:PUBLISH
BEGIN:VEVENT
UID:fcc5764a3c5a7ce3cceaf70f39073f78
CATEGORIES:DEFAULT
SUMMARY:Settima lezione Acquisizione del first certificate in english (FCE)
LOCATION:Liceo Tenca - Bastioni di Porta Volta, 16 - Milano
DESCRIPTION;ENCODING=QUOTED-PRINTABLE:\n\nPart 1: My first job\n\n\nDeveloping listening skills: (listening part 
 3) five people expressing their feelings and opinions about their first job
 . Group work: discussing different jobs which would be suitable for student
 s during their free time or holidays. Expressing/giving opinions, Agreeing/
 disagreeing.\n\n\nPart 2: Vocabulary building\n\n\nWork/job; possibility, o
 ccasion or opportunity; fun or funny. Adjectives collacations with job and 
 work.\n\n\n \n\n\nTeacher: Sandra Groome\n
DTSTAMP:20260424T190406Z
DTSTART:20161201T150000Z
DTEND:20161201T180000Z
SEQUENCE:0
TRANSP:OPAQUE
END:VEVENT
END:VCALENDAR