BEGIN:VCALENDAR
VERSION:2.0
PRODID:-//jEvents 2.0 for Joomla//EN
CALSCALE:GREGORIAN
METHOD:PUBLISH
BEGIN:VEVENT
UID:2aa948b49e328dda64a5012486f98f1c
CATEGORIES:DEFAULT
SUMMARY:Ottava lezione Acquisizione del first certificate in english (FCE)
LOCATION:Liceo Tenca - Bastioni di Porta Volta, 16 - Milano
DESCRIPTION;ENCODING=QUOTED-PRINTABLE:\n\nPart 1: Writing an informal letter or email\n\n\nPlanning a letter, lay
 out, useful expressions and spelling. Responding to a letter received from 
 an English speaking friend (140-190 words) paper 2. Writing part 2.\n\n\nPa
 rt 2: Grammar\n\n\nCountable and uncountable nouns; a/an, some/any, a few/a
  little, much/many, a lot of.\n\n\n \n\n\nTeacher: Sandra Groome\n\n\n \n
DTSTAMP:20260424T190516Z
DTSTART:20161215T150000Z
DTEND:20161215T180000Z
SEQUENCE:0
TRANSP:OPAQUE
END:VEVENT
END:VCALENDAR