BEGIN:VCALENDAR
VERSION:2.0
PRODID:-//jEvents 2.0 for Joomla//EN
CALSCALE:GREGORIAN
METHOD:PUBLISH
BEGIN:VEVENT
UID:5281bd85ddaa7e105b3b1006f56b17bd
CATEGORIES:DEFAULT
SUMMARY:XV lezione Acquisizione del first certificate in english (FCE)
LOCATION:Liceo Tenca - Bastioni di Porta Volta, 16 - Milano
DESCRIPTION;ENCODING=QUOTED-PRINTABLE:\n\nWriting an article (p. 26)\n\n\nPart 1: introduction to writing an arti
 cle; structuring an article; paraphrasing; writing compound and complex sen
 tences; using adjectives. \n\n\nPart 2: controlled practice on writing an a
 rticle\n\n\n \n\n\nTeacher: Sandra Groome\n
DTSTAMP:20260424T164758Z
DTSTART:20170223T150000Z
DTEND:20170223T180000Z
SEQUENCE:0
TRANSP:OPAQUE
END:VEVENT
END:VCALENDAR