BEGIN:VCALENDAR
VERSION:2.0
PRODID:-//jEvents 2.0 for Joomla//EN
CALSCALE:GREGORIAN
METHOD:PUBLISH
BEGIN:VEVENT
UID:7f375f365ee25fc6b48da1540add64b0
CATEGORIES:DEFAULT
SUMMARY:Ventunesima lezione Acquisizione del first certificate in english (FCE) 
LOCATION:Liceo Tenca - Bastioni di Porta Volta, 16 - Milano
DESCRIPTION;ENCODING=QUOTED-PRINTABLE:\n\nMy first job\n\n\nPart 1: Grammar: countable and uncountable nouns; usi
 ng piece, bit, deal, amount and number with countable and uncountable nouns
 ; definite and indefinite articles; zero article.\n\n\nPart 2: Reading and 
 Use of English (part 2). Reviewing language work done previously in unit.\n
 \n\n \n\n\nTeacher: Sandra Groome\n
DTSTAMP:20260424T190406Z
DTSTART:20170406T140000Z
DTEND:20170406T170000Z
SEQUENCE:0
TRANSP:OPAQUE
END:VEVENT
END:VCALENDAR