BEGIN:VCALENDAR
VERSION:2.0
PRODID:-//jEvents 2.0 for Joomla//EN
CALSCALE:GREGORIAN
METHOD:PUBLISH
BEGIN:VEVENT
UID:af483718fba72e6d33e54bdd128686fd
CATEGORIES:DEFAULT
SUMMARY:L'orientamento nella scuola secondaria di primo grado
LOCATION:I.C.  Pasquale Sottocorno - Via Monte Piana, 11 - Milano
DESCRIPTION;ENCODING=QUOTED-PRINTABLE:\n\nChe cosa significa orientare nel consueto lavoro scolastico \n\n\n \n\n
 \nFormatore: prof. Paolo Ravazzano\n
DTSTAMP:20260424T221404Z
DTSTART:20161020T133000Z
DTEND:20161020T160000Z
SEQUENCE:0
TRANSP:OPAQUE
END:VEVENT
END:VCALENDAR