BEGIN:VCALENDAR
VERSION:2.0
PRODID:-//jEvents 2.0 for Joomla//EN
CALSCALE:GREGORIAN
METHOD:PUBLISH
BEGIN:VEVENT
UID:f4589c52b7b5bf46300e9c4407b3b3cf
CATEGORIES:DEFAULT
SUMMARY:Incontro "famiglia e società: grazie, permesso, scusa"
LOCATION:Sala conferenze BCC - Via Lazzaretto, 15 - Oggiono (LC)
DESCRIPTION;ENCODING=QUOTED-PRINTABLE:\n\nIncontro all'interno del percorso "Per fare un bambino ci vuole un vill
 aggio". Famiglia, scuola e società di fronte alle nuove sfide educative.\n\
 n\nInterviene: Rossella Semplici, psicologa e scrittrice \n
DTSTAMP:20260424T202756Z
DTSTART:20161129T200000Z
SEQUENCE:0
TRANSP:OPAQUE
END:VEVENT
END:VCALENDAR