BEGIN:VCALENDAR
VERSION:2.0
PRODID:-//jEvents 2.0 for Joomla//EN
CALSCALE:GREGORIAN
METHOD:PUBLISH
BEGIN:VEVENT
UID:3fd4fb0eb07869edb326690e42bbc98e
CATEGORIES:DEFAULT
SUMMARY:Ventunesima lezione CERTIFICATE ACQUISITION IN ADVANCED ENGLISH (CAE)
LOCATION:Liceo Tenca - Bastioni di Porta Volta, 16 - Milano
DESCRIPTION;ENCODING=QUOTED-PRINTABLE:\n\nBeing Somewhere else I\n\n\nTravelling. Oral Expression and Comprehensi
 on exercises. Grammar: the “Conditionals”. Written Comprehension Exercises.
 \n\n\nTeacher: Kenneth R. Brodey\n\n\n \n
DTSTAMP:20260424T190517Z
DTSTART:20170420T140000Z
DTEND:20170420T170000Z
SEQUENCE:0
TRANSP:OPAQUE
END:VEVENT
END:VCALENDAR