BEGIN:VCALENDAR
VERSION:2.0
PRODID:-//jEvents 2.0 for Joomla//EN
CALSCALE:GREGORIAN
METHOD:PUBLISH
BEGIN:VEVENT
UID:633ec8236b7ffc1278662dabc4f19b5a
CATEGORIES:DEFAULT
SUMMARY:Ultima lezione CERTIFICATE ACQUISITION IN ADVANCED ENGLISH (CAE)
LOCATION:Liceo Tenca - Bastioni di Porta Volta, 16 - Milano
DESCRIPTION;ENCODING=QUOTED-PRINTABLE:\n\nBeing Somewhere else II\n\n\nLocation prepositions. Writing a piece of 
 a tourist manual or guides. Grammar, vocabulary, written, reading, oral com
 prehension.\n\n\nFinal test\n
DTSTAMP:20260424T190359Z
DTSTART:20170427T060000Z
DTEND:20170427T150000Z
SEQUENCE:0
TRANSP:OPAQUE
END:VEVENT
END:VCALENDAR