BEGIN:VCALENDAR
VERSION:2.0
PRODID:-//jEvents 2.0 for Joomla//EN
CALSCALE:GREGORIAN
METHOD:PUBLISH
BEGIN:VEVENT
UID:8ee30c6d14f3c200d2d898db44fd54b9
CATEGORIES:DEFAULT
SUMMARY:LA CONTEMPORANEITA' PRIMO INCONTRO
DESCRIPTION;ENCODING=QUOTED-PRINTABLE:\n\nLA CONTEMPORANEITA'\n\n\nIl primo incontro si terrà Mercoledì 8/02/2017
  dalle ore 16:00 alle ore 19:00 presso l'istituto IIS Cremona, Viale Marche
  71/73 20159 Milano.\n\n\n \n\n\nArgomenti:\n\n\nOLTRE LA SPECIE?\n\n\n Car
 lo Soave, già professore ordinario di fisiologia vegetale, Università degli
  Studi di Milano\n\n\n \n\n\n ABITARE LA TECNOLOGIA\n\n\n Francesco Botturi
 , professore ordinario di filosofia morale, Università Cattolica, Milano\n\
 n\n \n\n\nCoordinatrice: Mariella Ferrante, presidente Diesse Lombardia\n\n
 \n \n
DTSTAMP:20260424T163103Z
DTSTART:20170208T150000Z
DTEND:20170208T180000Z
SEQUENCE:0
TRANSP:OPAQUE
END:VEVENT
END:VCALENDAR