BEGIN:VCALENDAR
VERSION:2.0
PRODID:-//jEvents 2.0 for Joomla//EN
CALSCALE:GREGORIAN
METHOD:PUBLISH
BEGIN:VEVENT
UID:f50ea1dd299fc38c4287de83802490ec
CATEGORIES:DEFAULT
SUMMARY:II incontro "LA CONTEMPORANEITA'" - L'intelligenza Artificiale
DESCRIPTION;ENCODING=QUOTED-PRINTABLE:\n\nLA CONTEMPORANEITA'\n\n\nIl secondo incontro si terrà Venerdì 17/02/17 
 dalle ore 16:00 alle ore 19:00 presso l'Istituto IIS Cremona, Viale Marche 
 71/73 Milano.\n\n\nArgomento: \n\n\nL'INTELLIGENZA ARTIFICIALE\n\n\nSamir S
 uweis, ricercatore Dipartimento di Fisica e di Astronomia, Università degli
  Studi, Padova\n\n\n \n\n\nCoordionatore: Mario Gargantini, giornalista sci
 entifico e direttore di Emmeciquadro\n
DTSTAMP:20260424T163102Z
DTSTART:20170217T150000Z
DTEND:20170217T180000Z
SEQUENCE:0
TRANSP:OPAQUE
END:VEVENT
END:VCALENDAR