BEGIN:VCALENDAR
VERSION:2.0
PRODID:-//jEvents 2.0 for Joomla//EN
CALSCALE:GREGORIAN
METHOD:PUBLISH
BEGIN:VEVENT
UID:0211aefa97cf39358bb713bb08260c43
CATEGORIES:DEFAULT
SUMMARY:III incontro "LA CONTEMPORANEITA'" - Fare le leggi e applicare le norme: diritto e politica"
DESCRIPTION;ENCODING=QUOTED-PRINTABLE:\n\nLA CONTEMPORANEITA'\n\n\nIl terzo incontro si terrà Giovedì 23/02/2017 
 dalle ore 16:00 alle ore 19:00 presso l'Istituto IIS Cremona, Viale Marche 
 71/73, Milano.\n\n\nArgomento:\n\n\nFARE LE LEGGI E APPLICARE LE NORME: DIR
 ITTO E POLITICA\n\n\nAurelio Barazzetta, presidente dei GIP- Tribunale di M
 ilano\n\n\nLorenzo Ornaghi, politologo, presidente ASERI, Alta Scuola di Ec
 onomia e Relazioni Internazionali\n\n\nCoordina: Matteo Foppa Pedretti, doc
 ente di diritto, dirigente\n
DTSTAMP:20260424T163636Z
DTSTART:20170223T150000Z
DTEND:20170223T180000Z
SEQUENCE:0
TRANSP:OPAQUE
END:VEVENT
END:VCALENDAR