BEGIN:VCALENDAR
VERSION:2.0
PRODID:-//jEvents 2.0 for Joomla//EN
CALSCALE:GREGORIAN
METHOD:PUBLISH
BEGIN:VEVENT
UID:e46a75202e845d2bdddb54137345a8dd
CATEGORIES:DEFAULT
SUMMARY:IV lezione inglese A2 - Sede di Saronno
LOCATION:I.C. di Lomazzo (CO)
DESCRIPTION;ENCODING=QUOTED-PRINTABLE:\n\nQuarta lezione del corso di inglese A2, continuazione del corso A1 conc
 lusosi il 19 gennaio, presso l'I.C. di Lomazzo, via Pitagora, 22074, Lomazz
 o (CO).\n
DTSTAMP:20260424T163107Z
DTSTART:20170216T040000Z
DTEND:20170216T180000Z
SEQUENCE:0
TRANSP:OPAQUE
END:VEVENT
END:VCALENDAR