BEGIN:VCALENDAR
VERSION:2.0
PRODID:-//jEvents 2.0 for Joomla//EN
CALSCALE:GREGORIAN
METHOD:PUBLISH
BEGIN:VEVENT
UID:39a76e64c7e11228a9fceac843dbb80a
CATEGORIES:DEFAULT
SUMMARY:I lezione "Avanzare nella didattica digitale" - Pareto
LOCATION:I.I.S. PARETO
DESCRIPTION;ENCODING=QUOTED-PRINTABLE:\n\nPrima lezione del corso di Generazione Web "Avanzare nella didattica di
 gitale" presso l'I.I.S. Pareto, Via Alessandro Litta Modignani 55, Milano.\
 n
DTSTAMP:20260424T163107Z
DTSTART:20170208T133000Z
DTEND:20170208T163000Z
SEQUENCE:0
TRANSP:OPAQUE
END:VEVENT
END:VCALENDAR