BEGIN:VCALENDAR
VERSION:2.0
PRODID:-//jEvents 2.0 for Joomla//EN
CALSCALE:GREGORIAN
METHOD:PUBLISH
BEGIN:VEVENT
UID:ebc8f239b2935432a637b07b0a47fcdc
CATEGORIES:DEFAULT
SUMMARY:V lezione "Avanzare nella didattica digitale" - Pareto
LOCATION:I.I.S. PARETO
DESCRIPTION;ENCODING=QUOTED-PRINTABLE:\n\nQuinta e ultima lezione del corso di Generazione Web "Avanzare nella di
 dattica digitale" presso l'I.I.S. Pareto, Via Alessandro Litta Modignani 55
 , Milano.\n
DTSTAMP:20260424T190405Z
DTSTART:20170405T123000Z
DTEND:20170405T153000Z
SEQUENCE:0
TRANSP:OPAQUE
END:VEVENT
END:VCALENDAR