BEGIN:VCALENDAR
VERSION:2.0
PRODID:-//jEvents 2.0 for Joomla//EN
CALSCALE:GREGORIAN
METHOD:PUBLISH
BEGIN:VEVENT
UID:93c025292bd360a830807f3cb75a701e
CATEGORIES:DEFAULT
SUMMARY:I lezione "Avanzare nella didattica digitale" - IIS CREMONA
LOCATION:IIS CREMONA
DESCRIPTION;ENCODING=QUOTED-PRINTABLE:\n\nPrima lezione del corso di Generazione Web "Avanzare nella didattica di
 gitale" (cod. 161768 Rete Cremona).\n\n\nIl corso si tiene presso IIS Cremo
 na, Viale Marche 73, Milano.\n
DTSTAMP:20260424T163052Z
DTSTART:20170215T140000Z
DTEND:20170215T170000Z
SEQUENCE:0
TRANSP:OPAQUE
END:VEVENT
END:VCALENDAR