BEGIN:VCALENDAR
VERSION:2.0
PRODID:-//jEvents 2.0 for Joomla//EN
CALSCALE:GREGORIAN
METHOD:PUBLISH
BEGIN:VEVENT
UID:2e04c8d04a52cce89fcd1ee153fd2326
CATEGORIES:DEFAULT
SUMMARY:II lezione "Introduzione Capovolta" - ISTITUTO CAVALIERI
LOCATION:ISTITUTO CAVALIERI
DESCRIPTION;ENCODING=QUOTED-PRINTABLE:\n\nSeconda lezione del corso di Generazione Web (Rete Cavalieri) 161713 "I
 ntroduzione Capovolta" presso l'Istituto Cavalieri in via Olona 14, Milano.
 \n
DTSTAMP:20260424T163108Z
DTSTART:20170228T140000Z
DTEND:20170228T170000Z
SEQUENCE:0
TRANSP:OPAQUE
END:VEVENT
END:VCALENDAR