BEGIN:VCALENDAR
VERSION:2.0
PRODID:-//jEvents 2.0 for Joomla//EN
CALSCALE:GREGORIAN
METHOD:PUBLISH
BEGIN:VEVENT
UID:4ba386134bf7876c41a87dddcc57b543
CATEGORIES:DEFAULT
SUMMARY:V lezione "Introduzione Capovolta" - ISTITUTO CAVALIERI
LOCATION:ISTITUTO CAVALIERI
DESCRIPTION;ENCODING=QUOTED-PRINTABLE:\n\nQuinta e ultima lezione del corso di Generazione Web (Rete Cavalieri) 1
 61713 "Introduzione Capovolta" presso l'Istituto Cavalieri in via Olona 14,
  Milano.\n
DTSTAMP:20260424T190406Z
DTSTART:20170427T130000Z
DTEND:20170427T160000Z
SEQUENCE:0
TRANSP:OPAQUE
END:VEVENT
END:VCALENDAR